Workbook
Name _authorName: Начална!$B$26
Name _consolidation: Nomenklaturi!$A$1:$A$2
Name _endDate: Начална!$B$10
Name _pdeReportingDate: Начална!$B$11
Name _pdeTypeList: Nomenklaturi!$A$5:$A$9
Name _secType: Nomenklaturi!$A$11:$A$13
Name authorName: Начална!$AA$3
Name authorPosition: Начална!$B$27
Name endDate: Начална!$AA$1
Name pdeBulstat: Начална!$B$16
Name pdeEmail: Начална!$B$23
Name pdeFax: Начална!$B$22
Name pdeLegalPower: Начална!$B$18
Name pdeManager: Начална!$B$17
Name pdeMediaWeb: Начална!$B$25
Name pdeName: Начална!$B$14
Name pdeOfficialAddress: Начална!$B$19
Name pdePhone: Начална!$B$21
Name pdePostAddress: Начална!$B$20
Name pdeReportingDate: Начална!$AA$2
Name pdeType: Начална!$B$15
Name pdeWeb: Начална!$B$24
Name reportConsolidation: Начална!$A$3
Name startDate: Начална!$B$9

Sheet Начална
A1: СПРАВКИ | Z1: 1 | AA1: =IF(ISBLANK(_endDate),"",_endDate) -> 46022
A2: годишни и шестмесечни | Z2: 2 | AA2: =IF(ISBLANK(_pdeReportingDate),"",_pdeReportingDate) -> 46044
A3: на индивидуална основа | Z3: 3 | AA3: =IF(ISBLANK(_authorName),"",_authorName) -> Тотка Николова
A4: по чл. 10, т. 3 и чл. 12, ал. 1, т. 3 от Наредба № 2
A5: за публични дружества, други емитенти на ценни книжа, акционерни дружества със специална инвестиционна цел и лица по §1д от ЗППЦК
A8: Данни за отчетния период
A9: Начална дата: | B9: 45658
A10: Крайна дата: | B10: 46022
A11: Дата на съставяне: | B11: 46044
A13: Данни за лицето
A14: Наименование на лицето: | B14: "Костенец-ХХИ" АД
A15: Тип лице: | B15: Публично дружество
A16: ЕИК: | B16: 832064969
A17: Представляващ/и: | B17: Иван Апостолов
A18: Начин на представляване: | B18: Изпълнителен директор
A19: Адрес на управление: | B19: гр. Костенец 2030, ул. Съединение № 2
A20: Адрес за кореспонденция: | B20: гр. Костенец 2030, ул. Съединение № 2
A21: Телефон: | B21: 071422131
A22: Факс: | B22: 071422131
A23: E-mail: | B23: investor@hhi-bg.eu
A24: Уеб сайт: | B24: www.hhi-bg.eu
A25: Медия: | B25: https://www.infostock.bg/infostock/
... A28: Версия на шаблона: | B28: 1.0
A30: * Последна актуализация месец декември 2021г.

Sheet 1-Баланс
A1: СЧЕТОВОДЕН БАЛАНС
A2: =CONCATENATE("(",LOWER(reportConsolidation),")") -> (на индивидуална основа)
A4: =CONCATENATE("на ",UPPER(pdeName)) -> на "КОСТЕНЕЦ-ХХИ" АД
A5: =CONCATENATE("ЕИК по БУЛСТАТ: ", pdeBulstat) -> ЕИК по БУЛСТАТ: 832064969
A6: =CONCATENATE("към ",TEXT(endDate,"dd.mm.yyyy")," г.") -> към 31.12.2025 г.
H7: (в хил.лева)
A8: АКТИВИ | B8: Код на реда | C8: Текущ период | D8: Предходен период | E8: СОБСТВЕН КАПИТАЛ, МАЛЦИНСТВЕНО УЧАСТИЕ И ПАСИВИ | F8: Код на реда | G8: Текущ период | H8: Предходен период
A9: а | B9: б | C9: 1 | D9: 2 | E9: а | F9: б | G9: 1 | H9: 2
A10: А. НЕТЕКУЩИ АКТИВИ | E10: А. СОБСТВЕН КАПИТАЛ
A11: I. Имоти, машини, съоръжения и оборудване | E11: I. Основен капитал
A12: 1. Земи (терени ) | B12: 1-0011 | E12: Записан и внесен капитал т.ч.: | F12: 1-0411 | G12: 1043 | H12: 1043
A13: 2. Сгради и конструкции | B13: 1-0012 | E13: обикновени акции | F13: 1-0411-1 | G13: 1043 | H13: 1043
A14: 3. Машини и оборудване | B14: 1-0013 | E14: привилегировани акции | F14: 1-0411-2
A15: 4. Съоръжения | B15: 1-0014 | E15: Изкупени собствени обикновени акции | F15: 1-0417
A16: 5. Транспортни средства | B16: 1-0015 | E16: Изкупени собствени привилегировани акции | F16: 1-0417-1
A17: 6. Стопански инвентар | B17: 1-0017-1 | E17: Невнесен капитал | F17: 1-0416
A18: 7. Разходи за придобиване и ликвидация на дълготрайни материални активи | B18: 1-0018 | E18: Общо за група І: | F18: 1-0410 | G18: =G12+G15+G16+G17 -> 1043 | H18: =H12+H15+H16+H17 -> 1043
A19: 8. Други | B19: 1-0017 | E19: II. Резерви
A20: Общо за група I: | B20: 1-0010 | C20: =SUM(C12:C19) -> 0 | D20: =SUM(D12:D19) -> 0 | E20: 1. Премийни резерви при емитиране на ценни книжа | F20: 1-0421 | G20: 8948 | H20: 8948
A21: II. Инвестиционни имоти | B21: 1-0041 | E21: 2. Резерв от последващи оценки на активите и пасивите | F21: 1-0422
A22: III. Биологични активи | B22: 1-0016 | E22: 3. Целеви резерви, в т.ч.: | F22: 1-0423 | G22: =SUM(G23:G25) -> 328 | H22: =SUM(H23:H25) -> 328
A23: IV. Нематериални активи | E23: общи резерви | F23: 1-0424 | G23: 263 | H23: 263
A24: 1. Права върху собственост | B24: 1-0021 | E24: специализирани резерви | F24: 1-0425
A25: 2. Програмни продукти | B25: 1-0022 | E25: други резерви | F25: 1-0426 | G25: 65 | H25: 65
A26: 3. Продукти от развойна дейност | B26: 1-0023 | E26: Общо за група II: | F26: 1-0420 | G26: =G20+G21+G22 -> 9276 | H26: =H20+H21+H22 -> 9276
A27: 4. Други | B27: 1-0024 | E27: III. Финансов резултат
A28: Общо за група IV: | B28: 1-0020 | C28: =SUM(C24:C27) -> 0 | D28: =SUM(D24:D27) -> 0 | E28: 1. Натрупана печалба (загуба) в т.ч.: | F28: 1-0451 | G28: =SUM(G29:G31) -> -10319 | H28: =SUM(H29:H31) -> -10319
E29: неразпределена печалба | F29: 1-0452 | G29: 14652 | H29: 14652
A30: V. Търговска репутация | E30: непокрита загуба | F30: 1-0453 | G30: -24971 | H30: -24971
A31: 1. Положителна репутация | B31: 1-0051 | E31: еднократен ефект от промени в счетоводната политика | F31: 1-0451-1
A32: 2. Отрицателна репутация | B32: 1-0052 | E32: 2. Текуща печалба | F32: 1-0454
A33: Общо за група V: | B33: 1-0050 | C33: =C31+C32 -> 0 | D33: =D31+D32 -> 0 | E33: 3. Текуща загуба | F33: 1-0455
A34: VI. Финансови активи | E34: Общо за група III: | F34: 1-0450 | G34: =G28+G32+G33 -> -10319 | H34: =H28+H32+H33 -> -10319
A35: 1. Инвестиции в: | B35: 1-0031 | C35: =SUM(C36:C39) -> 0 | D35: =SUM(D36:D39) -> 0
A36: дъщерни предприятия | B36: 1-0032
A37: смесени предприятия | B37: 1-0033 | E37: ОБЩО ЗА РАЗДЕЛ "А" (I+II+III): | F37: 1-0400 | G37: =G26+G18+G34 -> 0 | H37: =H26+H18+H34 -> 0
A38: асоциирани предприятия | B38: 1-0034
A39: други предприятия | B39: 1-0035
A40: 2. Държани до настъпване на падеж | B40: 1-0042 | C40: =C41+C42+C44 -> 0 | D40: =D41+D42+D44 -> 0 | E40: Б. МАЛЦИНСТВЕНО УЧАСТИЕ | F40: 1-0400-1
A41: държавни ценни книжа | B41: 1-0042-1
...

Sheet 2-Отчет за доходите
A1: ОТЧЕТ ЗА ДОХОДИТЕ
A2: =CONCATENATE("(",LOWER(reportConsolidation),")") -> (на индивидуална основа)
A4: =CONCATENATE("на ",UPPER(pdeName)) -> на "КОСТЕНЕЦ-ХХИ" АД
A5: =CONCATENATE("ЕИК по БУЛСТАТ: ", pdeBulstat) -> ЕИК по БУЛСТАТ: 832064969
A6: =CONCATENATE("към ",TEXT(endDate,"dd.mm.yyyy")," г.") -> към 31.12.2025 г.
H7: (в хил.лева)
A8: РАЗХОДИ | B8: Код на реда | C8: Текущ период | D8: Предходен период | E8: ПРИХОДИ | F8: Код на реда | G8: Текущ период | H8: Предходен период
A9: а | B9: б | C9: 1 | D9: 2 | E9: а | F9: б | G9: 1 | H9: 2
A10: А. Разходи за дейността | E10: А. Приходи от дейността
A11: I. Разходи по икономически елементи | E11: I. Нетни приходи от продажби на:
A12: 1. Разходи за материали | B12: 2-1120 | E12: 1. Продукция | F12: 2-1551
A13: 2. Разходи за външни услуги | B13: 2-1130 | E13: 2. Стоки | F13: 2-1552
A14: 3. Разходи за амортизации | B14: 2-1160 | E14: 3. Услуги | F14: 2-1560
A15: 4. Разходи за възнаграждения | B15: 2-1140 | E15: 4. Други | F15: 2-1556
A16: 5. Разходи за осигуровки | B16: 2-1150 | E16: Общо за група I: | F16: 2-1610 | G16: =SUM(G12:G15) -> 0 | H16: =SUM(H12:H15) -> 0
A17: 6. Балансова стойност на продадени активи (без продукция) | B17: 2-1010
A18: 7. Изменение на запасите от продукция и незавършено производство | B18: 2-1030 | E18: II. Приходи от финансирания | F18: 2-1620
A19: 8. Други, в т.ч.: | B19: 2-1170 | E19: в т.ч. от правителството | F19: 2-1621
A20: обезценка на активи | B20: 2-1171
A21: провизии | B21: 2-1172 | E21: III. Финансови приходи
A22: Общо за група I: | B22: 2-1100 | C22: =SUM(C12:C18)+C19 -> 0 | D22: =SUM(D12:D18)+D19 -> 0 | E22: 1. Приходи от лихви | F22: 2-1710
E23: 2. Приходи от дивиденти | F23: 2-1721
A24: II. Финансови разходи | E24: 3. Положителни разлики от операции с финансови активи и инструменти | F24: 2-1730
A25: 1. Разходи за лихви | B25: 2-1210 | E25: 4. Положителни разлики от промяна на валутни курсове | F25: 2-1740
A26: 2. Отрицателни разлики от операции с финансови активи и инструменти | B26: 2-1220 | E26: 5. Други | F26: 2-1745
A27: 3. Отрицателни разлики от промяна на валутни курсове | B27: 2-1230 | E27: Общо за група III: | F27: 2-1700 | G27: =SUM(G22:G26) -> 0 | H27: =SUM(H22:H26) -> 0
A28: 4. Други | B28: 2-1240
A29: Общо за група II: | B29: 2-1200 | C29: =SUM(C25:C28) -> 0 | D29: =SUM(D25:D28) -> 0
A31: Б. Общо разходи за дейността (I + II) | B31: 2-1300 | C31: =C29+C22 -> 0 | D31: =D29+D22 -> 0 | E31: Б. Общо приходи от дейността (I + II + III): | F31: 2-1600 | G31: =G16+G18+G27 -> 0 | H31: =H16+H18+H27 -> 0
A33: В. Печалба от дейността | B33: 2-1310 | C33: =IF((G31-C31)>0,G31-C31,0) -> 0 | D33: =IF((H31-D31)>0,H31-D31,0) -> 0 | E33: В. Загуба от дейността | F33: 2-1810 | G33: =IF((C31-G31)>0,C31-G31,0) -> 0 | H33: =IF((D31-H31)>0,D31-H31,0) -> 0
A34: III. Дял от печалбата на асоциирани и съвместни предприятия | B34: 2-1250-1 | E34: IV. Дял от загубата на асоциирани и съвместни предприятия | F34: 2-1810-1
A35: IV. Извънредни разходи | B35: 2-1250 | E35: V. Извънредни приходи | F35: 2-1750
A36: Г. Общо разходи (Б+ III +IV) | B36: 2-1350 | C36: =C31-C34+C35 -> 0 | D36: =D31-D34+D35 -> 0 | E36: Г. Общо приходи (Б + IV + V) | F36: 2-1800 | G36: =G35-G34+G31 -> 0 | H36: =H35-H34+H31 -> 0
A37: Д. Печалба преди облагане с данъци | B37: 2-1400 | C37: =IF((G36-C36)>0,G36-C36,0) -> 0 | D37: =IF((H36-D36)>0,H36-D36,0) -> 0 | E37: Д. Загуба преди облагане с данъци | F37: 2-1850 | G37: =IF((C36-G36)>0,C36-G36,0) -> 0 | H37: =IF((D36-H36)>0,D36-H36,0) -> 0
A38: V. Разходи за данъци | B38: 2-1450 | C38: =C39+C40+C41 -> 0 | D38: =D39+D40+D41 -> 0
A39: 1.Разходи за текущи корпоративни данъци върху печалбата | B39: 2-1451
A40: 2. Разход /(икономия) на отсрочени корпоративни данъци върху печалбата | B40: 2-1452
A41: 3. Други | B41: 2-1453
A42: E. Печалба след облагане с данъци (Д - V) | B42: 2-0454 | C42: =+IF((G36-C36-C38)>0,G36-C36-C38,0) -> 0 | D42: =+IF((H36-D36-D38)>0,H36-D36-D38,0) -> 0 | E42: E. Загуба след облагане с данъци (Д + V) | F42: 2-0455 | G42: =IF(G37>0,IF(C38+G37<0,0,C38+G37),IF(C37-C38<0,C38-C37,0)) -> 0 | H42: =IF(H37>0,IF(D38+H37<0,0,D38+H37),IF(D37-D38<0,D38-D37,0)) -> 0
A43: в т.ч. за малцинствено участие | B43: 2-0454-1 | E43: в т.ч. за малцинствено участие | F43: 2-0455-1
...

Sheet 3-Отчет за паричния поток
A1: ОТЧЕТ ЗА ПАРИЧНИТЕ ПОТОЦИ ПО ПРЕКИЯ МЕТОД
A2: =CONCATENATE("(",LOWER(reportConsolidation),")") -> (на индивидуална основа)
A4: =CONCATENATE("на ",UPPER(pdeName)) -> на "КОСТЕНЕЦ-ХХИ" АД
A5: =CONCATENATE("ЕИК по БУЛСТАТ: ", pdeBulstat) -> ЕИК по БУЛСТАТ: 832064969
A6: =CONCATENATE("към ",TEXT(endDate,"dd.mm.yyyy")," г.") -> към 31.12.2025 г.
D7: (в хил.лева)
A8: ПАРИЧНИ ПОТОЦИ | B8: Код на реда | C8: Текущ период | D8: Предходен период
A9: а | B9: б | C9: 1 | D9: 2
A10: А. Парични потоци от оперативна дейност
A11: 1. Постъпления от клиенти | B11: 3-2201
A12: 2. Плащания на доставчици | B12: 3-2201-1
A13: 3. Плащания/постъпления, свързани с финансови активи, държани с цел търговия | B13: 3-2202
A14: 4. Плащания, свързани с възнаграждения | B14: 3-2203
A15: 5. Платени /възстановени данъци (без корпоративен данък върху печалбата) | B15: 3-2206
A16: 6. Платени корпоративни данъци върху печалбата | B16: 3-2206-1
A17: 7. Получени лихви | B17: 3-2204
A18: 8. Платени банкови такси и лихви върху краткосрочни заеми за оборотни средства | B18: 3-2204-1
A19: 9. Курсови разлики | B19: 3-2205
A20: 10. Други постъпления /плащания от оперативна дейност | B20: 3-2208
A21: Нетен паричен поток от оперативна дейност (А): | B21: 3-2200 | C21: =SUM(C11:C20) -> 0 | D21: =SUM(D11:D20) -> 0
A22: Б. Парични потоци от инвестиционна дейност
A23: 1. Покупка на дълготрайни активи | B23: 3-2301
A24: 2. Постъпления от продажба на дълготрайни активи | B24: 3-2301-1
A25: 3. Предоставени заеми | B25: 3-2302
A26: 4. Възстановени (платени) предоставени заеми, в т.ч. по финансов лизинг | B26: 3-2302-1
A27: 5. Получени лихви по предоставени заеми | B27: 3-2302-2
A28: 6. Покупка на инвестиции | B28: 3-2302-3
A29: 7. Постъпления от продажба на инвестиции | B29: 3-2302-4
A30: 8. Получени дивиденти от инвестиции | B30: 3-2303
A31: 9. Курсови разлики | B31: 3-2305
A32: 10. Други постъпления/ плащания от инвестиционна дейност | B32: 3-2306
A33: Нетен поток от инвестиционна дейност (Б): | B33: 3-2300 | C33: =SUM(C23:C32) -> 0 | D33: =SUM(D23:D32) -> 0
A34: В. Парични потоци от финансова дейност
A35: 1. Постъпления от емитиране на ценни книжа | B35: 3-2401
A36: 2. Плащания при обратно придобиване на ценни книжа | B36: 3-2401-1
A37: 3. Постъпления от заеми | B37: 3-2403
A38: 4. Платени заеми | B38: 3-2403-1
A39: 5. Платени задължения по лизингови договори | B39: 3-2405
A40: 6. Платени лихви, такси, комисиони по заеми с инвестиционно предназначение | B40: 3-2404
A41: 7 . Изплатени дивиденти | B41: 3-2404-1
...

Sheet 4-Отчет за собствения капитал
A1: ОТЧЕТ ЗА ИЗМЕНЕНИЯТА В СОБСТВЕНИЯ КАПИТАЛ
A2: =CONCATENATE("(",LOWER(reportConsolidation),")") -> (на индивидуална основа)
A4: =CONCATENATE("на ",UPPER(pdeName)) -> на "КОСТЕНЕЦ-ХХИ" АД
A5: =CONCATENATE("ЕИК по БУЛСТАТ: ", pdeBulstat) -> ЕИК по БУЛСТАТ: 832064969
A6: =CONCATENATE("към ",TEXT(endDate,"dd.mm.yyyy")," г.") -> към 31.12.2025 г.
M7: ( в хил.лева)
A8: ПОКАЗАТЕЛИ | B8: Код на реда | C8: Основен капитал | D8: Резерви | I8: Натрупани печалби/загуби | K8: Резерв от преводи | L8: Общо собствен капитал
D9: премии от емисия (премиен резерв) | E9: резерв от последващи оценки | F9: целеви резерви | I9: печалба | J9: загуба | M9: Малцинствено участие
F10: общи | G10: специали зирани | H10: други
A11: а | C11: 1 | D11: 2 | E11: 3 | F11: 4 | G11: 5 | H11: 6 | I11: 7 | J11: 8 | K11: 9 | L11: 10 | M11: 11
A12: Код на реда - б | C12: 1-0410 | D12: 1-0410 | E12: 1-0422 | F12: 1-0424 | G12: 1-0425 | H12: 1-0426 | I12: 1-0452 | J12: 1-0453 | K12: 4-0426-1 | L12: 1-0400 | M12: 1-0400-1
A13: Салдо в началото на отчетния период | B13: 4-01 | C13: ='1-Баланс'!H18 -> 1043 | D13: ='1-Баланс'!H20 -> 8948 | E13: ='1-Баланс'!H21 -> 0 | F13: ='1-Баланс'!H23 -> 263 | G13: ='1-Баланс'!H24 -> 0 | I13: ='1-Баланс'!H29+'1-Баланс'!H32 -> 14652 | J13: ='1-Баланс'!H30+'1-Баланс'!H33 -> -24971 | L13: =SUM(C13:K13) -> -65 | M13: ='1-Баланс'!H40 -> 0
A14: Промени в началните салда поради: | B14: 4-15 | C14: =C15+C16 -> 0 | D14: =D15+D16 -> 0 | E14: =E15+E16 -> 0 | F14: =F15+F16 -> 0 | G14: =G15+G16 -> 0 | H14: =H15+H16 -> 0 | I14: =I15+I16 -> 0 | J14: =J15+J16 -> 0 | K14: =K15+K16 -> 0 | L14: =SUM(C14:K14) -> 0 | M14: =M15+M16 -> 0
A15: Ефект от промени в счетоводната политика | B15: 4-15-1 | L15: =SUM(C15:K15) -> 0
A16: Фундаментални грешки | B16: 4-15-2 | L16: =SUM(C16:K16) -> 0
A17: Коригирано салдо в началото на отчетния период | B17: 4-01-1 | C17: =C13+C14 -> 1043 | D17: =D13+D14 -> 8948 | E17: =E13+E14 -> 0 | F17: =F13+F14 -> 263 | G17: =G13+G14 -> 0 | H17: =H13+H14 -> 0 | I17: =I13+I14 -> 14652 | J17: =J13+J14 -> -24971 | K17: =K13+K14 -> 0 | L17: =SUM(C17:K17) -> -65 | M17: =M13+M14 -> 0
A18: Нетна печалба/загуба за периода | B18: 4-05 | I18: =+'1-Баланс'!G32 -> 0 | J18: =+'1-Баланс'!G33 -> 0 | L18: =SUM(C18:K18) -> 0
A19: 1. Разпределение на печалбата за: | B19: 4-06 | C19: =C20+C21 -> 0 | D19: =D20+D21 -> 0 | E19: =E20+E21 -> 0 | F19: =F20+F21 -> 0 | G19: =G20+G21 -> 0 | H19: =H20+H21 -> 0 | I19: =I20+I21 -> 0 | J19: =J20+J21 -> 0 | K19: =K20+K21 -> 0 | L19: =SUM(C19:K19) -> 0 | M19: =M20+M21 -> 0
A20: дивиденти | B20: 4-07 | L20: =SUM(C20:K20) -> 0
A21: други | B21: 4-07-1 | L21: =SUM(C21:K21) -> 0
A22: 2. Покриване на загуби | B22: 4-08 | L22: =SUM(C22:K22) -> 0
A23: 3. Последващи оценки на дълготрайни материални и нематериални активи, в т.ч. | B23: 4-09 | C23: =C24-C25 -> 0 | D23: =D24-D25 -> 0 | E23: =E24-E25 -> 0 | F23: =F24-F25 -> 0 | G23: =G24-G25 -> 0 | H23: =H24-H25 -> 0 | I23: =I24-I25 -> 0 | J23: =J24-J25 -> 0 | K23: =K24-K25 -> 0 | L23: =SUM(C23:K23) -> 0 | M23: =M24-M25 -> 0
A24: увеличения | B24: 4-10 | L24: =SUM(C24:K24) -> 0
A25: намаления | B25: 4-11 | L25: =SUM(C25:K25) -> 0
A26: 4. Последващи оценки на финансови активи и инструменти, в т.ч. | B26: 4-12 | C26: =C27-C28 -> 0 | D26: =D27-D28 -> 0 | E26: =E27-E28 -> 0 | F26: =F27-F28 -> 0 | G26: =G27-G28 -> 0 | H26: =H27-H28 -> 0 | I26: =I27-I28 -> 0 | J26: =J27-J28 -> 0 | K26: =K27-K28 -> 0 | L26: =SUM(C26:K26) -> 0 | M26: =M27-M28 -> 0
A27: увеличения | B27: 4-13 | L27: =SUM(C27:K27) -> 0
A28: намаления | B28: 4-14 | L28: =SUM(C28:K28) -> 0
A29: 5. Ефект от отсрочени данъци | B29: 4-16-1 | L29: =SUM(C29:K29) -> 0
A30: 6. Други изменения | B30: 4-16 | L30: =SUM(C30:K30) -> 0
A31: Салдо към края на отчетния период | B31: 4-17 | C31: =C19+C22+C23+C26+C30+C29+C17+C18 -> 1043 | D31: =D19+D22+D23+D26+D30+D29+D17+D18 -> 8948 | E31: =E19+E22+E23+E26+E30+E29+E17+E18 -> 0 | F31: =F19+F22+F23+F26+F30+F29+F17+F18 -> 263 | G31: =G19+G22+G23+G26+G30+G29+G17+G18 -> 0 | H31: =H19+H22+H23+H26+H30+H29+H17+H18 -> 0 | I31: =I19+I22+I23+I26+I30+I29+I17+I18 -> 14652 | J31: =J19+J22+J23+J26+J30+J29+J17+J18 -> -24971 | K31: =K19+K22+K23+K26+K30+K29+K17+K18 -> 0 | L31: =SUM(C31:K31) -> -65 | M31: =M19+M22+M23+M26+M30+M29+M17+M18 -> 0
A32: 7. Промени от преводи на годишни финансови отчети на предприятия в чужбина | B32: 4-18 | L32: =SUM(C32:K32) -> 0
A33: 8. Промени от преизчисляване на финансови отчети при свръхинфлация | B33: 4-19 | L33: =SUM(C33:K33) -> 0
A34: Собствен капитал към края на отчетния период | B34: 4-20 | C34: =C31+C32+C33 -> 1043 | D34: =D31+D32+D33 -> 8948 | E34: =E31+E32+E33 -> 0 | F34: =F31+F32+F33 -> 263 | G34: =G31+G32+G33 -> 0 | H34: =H31+H32+H33 -> 0 | I34: =I31+I32+I33 -> 14652 | J34: =J31+J32+J33 -> -24971 | K34: =K31+K32+K33 -> 0 | L34: =SUM(C34:K34) -> -65 | M34: =M31+M32+M33 -> 0
A36: Забележка: На ред "Салдо в началото на отчетния период" се посочва салдото, което е в края на предходната година.
A38: Дата на съставяне: | B38: =pdeReportingDate -> 46044
A40: Съставител: | B40: =authorName -> Тотка Николова
A42: Представляващ/и:
B43: .........................
B44: .........................
B45: .........................
...

Sheet Справка 5
A1: СПРАВКА ЗА ИНВЕСТИЦИИТЕ В ДЪЩЕРНИ, СМЕСЕНИ, АСОЦИИРАНИ И ДРУГИ ПРЕДПРИЯТИЯ
A3: =CONCATENATE("на ",UPPER(pdeName)) -> на "КОСТЕНЕЦ-ХХИ" АД
A4: =CONCATENATE("ЕИК по БУЛСТАТ: ", pdeBulstat) -> ЕИК по БУЛСТАТ: 832064969
A5: =CONCATENATE("към ",TEXT(endDate,"dd.mm.yyyy")," г.") -> към 31.12.2025 г.
F7: (в хил.лева)
A8: Наименование и седалище на предприятията, в които са инвестициите | B8: Код на реда | C8: Размер на инвестицията | D8: Процент на инвестицията в капитала на другото предприятие | E8: Инвестиция в ценни книжа, приети за търговия на фондова борса | F8: Инвестиция в ценни книжа, неприети за търговия на фондова борса
A9: а | B9: б | C9: 1 | D9: 2 | E9: 3 | F9: 4
A10: А. В СТРАНАТА
A11: I. Инвестиции в дъщерни предприятия
A12: 1 | F12: =C12-E12 -> 0
A13: 2 | F13: =C13-E13 -> 0
A14: 3 | F14: =C14-E14 -> 0
A15: 4 | F15: =C15-E15 -> 0
A16: 5 | F16: =C16-E16 -> 0
A17: 6 | F17: =C17-E17 -> 0
A18: 7 | F18: =C18-E18 -> 0
A19: 8 | F19: =C19-E19 -> 0
A20: 9 | F20: =C20-E20 -> 0
A21: 10 | F21: =C21-E21 -> 0
A22: 11 | F22: =C22-E22 -> 0
A23: 12 | F23: =C23-E23 -> 0
... A26: 15 | F26: =C26-E26 -> 0
A27: Обща сума I: | B27: 8-4001 | C27: =SUM(C12:C26) -> 0 | E27: =SUM(E12:E26) -> 0 | F27: =SUM(F12:F26) -> 0
A28: II. Инвестиции в смесени предприятия
A29: 1 | F29: =C29-E29 -> 0
A30: 2 | F30: =C30-E30 -> 0
A31: 3 | F31: =C31-E31 -> 0
A32: 4 | F32: =C32-E32 -> 0
A33: 5 | F33: =C33-E33 -> 0
A34: 6 | F34: =C34-E34 -> 0
A35: 7 | F35: =C35-E35 -> 0
A36: 8 | F36: =C36-E36 -> 0
A37: 9 | F37: =C37-E37 -> 0
A38: 10 | F38: =C38-E38 -> 0
A39: 11 | F39: =C39-E39 -> 0
A40: 12 | F40: =C40-E40 -> 0
... A43: 15 | F43: =C43-E43 -> 0
A44: Обща сума II: | B44: 8-4006 | C44: =SUM(C29:C43) -> 0 | E44: =SUM(E29:E43) -> 0 | F44: =SUM(F29:F43) -> 0
A45: III. Инвестиции в асоциирани предприятия
A46: 1 | F46: =C46-E46 -> 0
...

Sheet Справка 6
A1: СПРАВКА ЗА НЕТЕКУЩИТЕ АКТИВИ
A3: =CONCATENATE("на ",UPPER(pdeName)) -> на "КОСТЕНЕЦ-ХХИ" АД
A4: =CONCATENATE("ЕИК по БУЛСТАТ: ", pdeBulstat) -> ЕИК по БУЛСТАТ: 832064969
A5: =CONCATENATE("към ",TEXT(endDate,"dd.mm.yyyy")," г.") -> към 31.12.2025 г.
R6: (в хил.лева)
A7: ПОКАЗАТЕЛИ | C7: Код на реда | D7: Отчетна стойност на нетекущите активи | H7: Преоценка | J7: Преоценена стойност (4+5-6) | K7: А м о р т и з а ц и я | O7: Преоценка | Q7: Преоценена амортизация в края на периода (11+12-13) | R7: Балансова стойност за текущия период (7-14)
D8: в нача-лото на периода | E8: на постъпи-лите през периода | F8: на излезли-те през периода | G8: в края на периода (1+2-3) | H8: увеличе-ние | I8: намале-ние | K8: в нача-лото на периода | L8: начисле-на през периода | M8: отписана през периода | N8: в края на периода (8+9-10) | O8: увеличе-ние | P8: намале-ние
A9: a | C9: б | D9: 1 | E9: 2 | F9: 3 | G9: 4 | H9: 5 | I9: 6 | J9: 7 | K9: 8 | L9: 9 | M9: 10 | N9: 11 | O9: 12 | P9: 13 | Q9: 14 | R9: 15
A10: I. | B10: Имоти, машини, съоръжения и оборудване
A11: 1. | B11: Земи (терени) | C11: 5-1001 | G11: =D11+E11-F11 -> 0 | J11: =G11+H11-I11 -> 0 | N11: =K11+L11-M11 -> 0 | Q11: =N11+O11-P11 -> 0 | R11: =J11-Q11 -> 0
A12: 2. | B12: Сгради и конструкции | C12: 5-1002 | G12: =D12+E12-F12 -> 0 | J12: =G12+H12-I12 -> 0 | N12: =K12+L12-M12 -> 0 | Q12: =N12+O12-P12 -> 0 | R12: =J12-Q12 -> 0
A13: 3. | B13: Машини и оборудване | C13: 5-1003 | G13: =D13+E13-F13 -> 0 | J13: =G13+H13-I13 -> 0 | N13: =K13+L13-M13 -> 0 | Q13: =N13+O13-P13 -> 0 | R13: =J13-Q13 -> 0
A14: 4. | B14: Съоръжения | C14: 5-1004 | G14: =D14+E14-F14 -> 0 | J14: =G14+H14-I14 -> 0 | N14: =K14+L14-M14 -> 0 | Q14: =N14+O14-P14 -> 0 | R14: =J14-Q14 -> 0
A15: 5. | B15: Транспортни средства | C15: 5-1005 | G15: =D15+E15-F15 -> 0 | J15: =G15+H15-I15 -> 0 | N15: =K15+L15-M15 -> 0 | Q15: =N15+O15-P15 -> 0 | R15: =J15-Q15 -> 0
A16: 6. | B16: Стопански инвентар | C16: 5-1007-1 | G16: =D16+E16-F16 -> 0 | J16: =G16+H16-I16 -> 0 | N16: =K16+L16-M16 -> 0 | Q16: =N16+O16-P16 -> 0 | R16: =J16-Q16 -> 0
A17: 7. | B17: Р-ди за придобиване и ликвидация на активи по стопански начин | C17: 5-1007-2 | G17: =D17+E17-F17 -> 0 | J17: =G17+H17-I17 -> 0 | N17: =K17+L17-M17 -> 0 | Q17: =N17+O17-P17 -> 0 | R17: =J17-Q17 -> 0
A18: 8. | B18: Други | C18: 5-1007 | G18: =D18+E18-F18 -> 0 | J18: =G18+H18-I18 -> 0 | N18: =K18+L18-M18 -> 0 | Q18: =N18+O18-P18 -> 0 | R18: =J18-Q18 -> 0
B19: Обща сума I: | C19: 5-1015 | D19: =SUM(D11:D18) -> 0 | E19: =SUM(E11:E18) -> 0 | F19: =SUM(F11:F18) -> 0 | G19: =D19+E19-F19 -> 0 | H19: =SUM(H11:H18) -> 0 | I19: =SUM(I11:I18) -> 0 | J19: =G19+H19-I19 -> 0 | K19: =SUM(K11:K18) -> 0 | L19: =SUM(L11:L18) -> 0 | M19: =SUM(M11:M18) -> 0 | N19: =K19+L19-M19 -> 0 | O19: =SUM(O11:O18) -> 0 | P19: =SUM(P11:P18) -> 0 | Q19: =N19+O19-P19 -> 0 | R19: =J19-Q19 -> 0
A20: II. | B20: Инвестиционни имоти | C20: 5-1037 | G20: =D20+E20-F20 -> 0 | J20: =G20+H20-I20 -> 0 | N20: =K20+L20-M20 -> 0 | Q20: =N20+O20-P20 -> 0 | R20: =J20-Q20 -> 0
A22: III. | B22: Биологични активи | C22: 5-1006 | G22: =D22+E22-F22 -> 0 | J22: =G22+H22-I22 -> 0 | N22: =K22+L22-M22 -> 0 | Q22: =N22+O22-P22 -> 0 | R22: =J22-Q22 -> 0
A23: IV. | B23: Нематериални активи | G23: =D23+E23-F23 -> 0 | J23: =G23+H23-I23 -> 0 | N23: =K23+L23-M23 -> 0 | Q23: =N23+O23-P23 -> 0 | R23: =J23-Q23 -> 0
A24: 1. | B24: Права върху собственост | C24: 5-1017 | G24: =D24+E24-F24 -> 0 | J24: =G24+H24-I24 -> 0 | N24: =K24+L24-M24 -> 0 | Q24: =N24+O24-P24 -> 0 | R24: =J24-Q24 -> 0
A25: 2. | B25: Програмни продукти | C25: 5-1018 | G25: =D25+E25-F25 -> 0 | J25: =G25+H25-I25 -> 0 | N25: =K25+L25-M25 -> 0 | Q25: =N25+O25-P25 -> 0 | R25: =J25-Q25 -> 0
A26: 3. | B26: Продукти от развойна дейност | C26: 5-1019 | G26: =D26+E26-F26 -> 0 | J26: =G26+H26-I26 -> 0 | N26: =K26+L26-M26 -> 0 | Q26: =N26+O26-P26 -> 0 | R26: =J26-Q26 -> 0
A27: 4. | B27: Други | C27: 5-1020 | G27: =D27+E27-F27 -> 0 | J27: =G27+H27-I27 -> 0 | N27: =K27+L27-M27 -> 0 | Q27: =N27+O27-P27 -> 0 | R27: =J27-Q27 -> 0
B28: Обща сума IV: | C28: 5-1030 | D28: =SUM(D24:D27) -> 0 | E28: =SUM(E24:E27) -> 0 | F28: =SUM(F24:F27) -> 0 | G28: =D28+E28-F28 -> 0 | H28: =SUM(H24:H27) -> 0 | I28: =SUM(I24:I27) -> 0 | J28: =G28+H28-I28 -> 0 | K28: =SUM(K24:K27) -> 0 | L28: =SUM(L24:L27) -> 0 | M28: =SUM(M24:M27) -> 0 | N28: =K28+L28-M28 -> 0 | O28: =SUM(O24:O27) -> 0 | P28: =SUM(P24:P27) -> 0 | Q28: =N28+O28-P28 -> 0 | R28: =J28-Q28 -> 0
A29: V. | B29: Финансови активи (без дългосрочни вземания)
A30: 1. | B30: Инвестиции в: | C30: 5-1032 | D30: =SUM(D31:D34) -> 0 | E30: =SUM(E31:E34) -> 0 | F30: =SUM(F31:F34) -> 0 | G30: =D30+E30-F30 -> 0 | H30: =SUM(H31:H34) -> 0 | I30: =SUM(I31:I34) -> 0 | J30: =G30+H30-I30 -> 0 | K30: =SUM(K31:K34) -> 0 | L30: =SUM(L31:L34) -> 0 | M30: =SUM(M31:M34) -> 0 | N30: =K30+L30-M30 -> 0 | O30: =SUM(O31:O34) -> 0 | P30: =SUM(P31:P34) -> 0 | Q30: =N30+O30-P30 -> 0 | R30: =J30-Q30 -> 0
B31: дъщерни предприятия | C31: 5-1033 | G31: =D31+E31-F31 -> 0 | J31: =G31+H31-I31 -> 0 | N31: =K31+L31-M31 -> 0 | Q31: =N31+O31-P31 -> 0 | R31: =J31-Q31 -> 0
B32: смесени предприятия | C32: 5-1034 | G32: =D32+E32-F32 -> 0 | J32: =G32+H32-I32 -> 0 | N32: =K32+L32-M32 -> 0 | Q32: =N32+O32-P32 -> 0 | R32: =J32-Q32 -> 0
B33: асоциирани предприятия | C33: 5-1035 | G33: =D33+E33-F33 -> 0 | J33: =G33+H33-I33 -> 0 | N33: =K33+L33-M33 -> 0 | Q33: =N33+O33-P33 -> 0 | R33: =J33-Q33 -> 0
B34: други предприятия | C34: 5-1036 | G34: =D34+E34-F34 -> 0 | J34: =G34+H34-I34 -> 0 | N34: =K34+L34-M34 -> 0 | Q34: =N34+O34-P34 -> 0 | R34: =J34-Q34 -> 0
A35: 2. | B35: Държани до настъпване на падеж: | C35: 5-1038 | D35: =SUM(D36:D39) -> 0 | E35: =SUM(E36:E39) -> 0 | F35: =SUM(F36:F39) -> 0 | G35: =D35+E35-F35 -> 0 | H35: =SUM(H36:H39) -> 0 | I35: =SUM(I36:I39) -> 0 | J35: =G35+H35-I35 -> 0 | K35: =SUM(K36:K39) -> 0 | L35: =SUM(L36:L39) -> 0 | M35: =SUM(M36:M39) -> 0 | N35: =K35+L35-M35 -> 0 | O35: =SUM(O36:O39) -> 0 | P35: =SUM(P36:P39) -> 0 | Q35: =N35+O35-P35 -> 0 | R35: =J35-Q35 -> 0
B36: държавни ценни книжа | C36: 5-1038-1 | G36: =D36+E36-F36 -> 0 | J36: =G36+H36-I36 -> 0 | N36: =K36+L36-M36 -> 0 | Q36: =N36+O36-P36 -> 0 | R36: =J36-Q36 -> 0
B37: облигации, в т.ч.: | C37: 5-1038-2 | G37: =D37+E37-F37 -> 0 | J37: =G37+H37-I37 -> 0 | N37: =K37+L37-M37 -> 0 | Q37: =N37+O37-P37 -> 0 | R37: =J37-Q37 -> 0
B38: общински облигации | C38: 5-1038-3 | G38: =D38+E38-F38 -> 0 | J38: =G38+H38-I38 -> 0 | N38: =K38+L38-M38 -> 0 | Q38: =N38+O38-P38 -> 0 | R38: =J38-Q38 -> 0
B39: Други инвестиции, държани до настъпване на падеж | C39: 5-1038-4 | G39: =D39+E39-F39 -> 0 | J39: =G39+H39-I39 -> 0 | N39: =K39+L39-M39 -> 0 | Q39: =N39+O39-P39 -> 0 | R39: =J39-Q39 -> 0
A40: 3. | B40: Други | C40: 5-1038-5 | G40: =D40+E40-F40 -> 0 | J40: =G40+H40-I40 -> 0 | N40: =K40+L40-M40 -> 0 | Q40: =N40+O40-P40 -> 0 | R40: =J40-Q40 -> 0
B41: Обща сума V: | C41: 5-1045 | D41: =D30+D35+D40 -> 0 | E41: =E30+E35+E40 -> 0 | F41: =F30+F35+F40 -> 0 | G41: =D41+E41-F41 -> 0 | H41: =H30+H35+H40 -> 0 | I41: =I30+I35+I40 -> 0 | J41: =G41+H41-I41 -> 0 | K41: =K30+K35+K40 -> 0 | L41: =L30+L35+L40 -> 0 | M41: =M30+M35+M40 -> 0 | N41: =K41+L41-M41 -> 0 | O41: =O30+O35+O40 -> 0 | P41: =P30+P35+P40 -> 0 | Q41: =N41+O41-P41 -> 0 | R41: =J41-Q41 -> 0
A42: VI. | B42: Търговска репутация | C42: 5-1050 | G42: =D42+E42-F42 -> 0 | J42: =G42+H42-I42 -> 0 | N42: =K42+L42-M42 -> 0 | Q42: =N42+O42-P42 -> 0 | R42: =J42-Q42 -> 0
...

Sheet Справка 7
A1: СПРАВКА ЗА ВЗЕМАНИЯТА, ЗАДЪЛЖЕНИЯТА И ПРОВИЗИИТЕ
A3: =CONCATENATE("на ",UPPER(pdeName)) -> на "КОСТЕНЕЦ-ХХИ" АД
A4: =CONCATENATE("ЕИК по БУЛСТАТ: ", pdeBulstat) -> ЕИК по БУЛСТАТ: 832064969
A5: =CONCATENATE("към ",TEXT(endDate,"dd.mm.yyyy")," г.") -> към 31.12.2025 г.
A7: А. ВЗЕМАНИЯ | E7: (в хил.лева)
A8: ПОКАЗАТЕЛИ | B8: Код на реда | C8: Сума на вземанията | D8: Степен на ликвидност
D9: до 1 година | E9: над 1 година
A10: а | B10: б | C10: 1 | D10: 2 | E10: 3
A11: I. Невнесен капитал | B11: 6-2010 | E11: =C11-D11 -> 0
A12: II. Нетекущи търговски и други вземания
A13: 1. Вземания от свързани предприятия, в т.ч.: | B13: 6-2021 | C13: =SUM(C14:C16) -> 0 | D13: =SUM(D14:D16) -> 0 | E13: =SUM(E14:E16) -> 0
A14: - предоставени заеми | B14: 6-2022 | E14: =C14-D14 -> 0
A15: - продажба на активи и услуги | B15: 6-2241 | E15: =C15-D15 -> 0
A16: - други | B16: 6-2023 | E16: =C16-D16 -> 0
A17: 2. Вземания от предоставени търговски заеми | B17: 6-2024 | E17: =C17-D17 -> 0
A18: 3. Други дългосрочни вземания, в т.ч.: | B18: 6-2026 | C18: =+C19+C20 -> 0 | D18: =+D19+D20 -> 0 | E18: =C18-D18 -> 0
A19: - финансов лизинг | B19: 6-2027 | E19: =C19-D19 -> 0
A20: - други | B20: 6-2029 | E20: =C20-D20 -> 0
A21: Всичко за II: | B21: 6-2020 | C21: =C13+C17+C18 -> 0 | D21: =D13+D17+D18 -> 0 | E21: =E13+E17+E18 -> 0
A22: III. Данъчни активи | E22: =C22-D22 -> 0
A23: Активи по отсрочени данъци | B23: 6-2030 | E23: =C23-D23 -> 0
A25: IV. Текущи търговски и други вземания
A26: 1. Вземания от свързани предприятия, в т.ч.: | B26: 6-2031 | C26: =SUM(C27:C29) -> 0 | D26: =SUM(D27:D29) -> 0 | E26: =SUM(E27:E29) -> 0
A27: - предоставени заеми | B27: 6-2032 | E27: =C27-D27 -> 0
A28: - от продажби | B28: 6-2033 | E28: =C28-D28 -> 0
A29: - други | B29: 6-2034 | E29: =C29-D29 -> 0
A30: 2. Вземания от клиенти и доставчици | B30: 6-2035 | E30: =C30-D30 -> 0
A31: 3. Вземания от предоставени аванси | B31: 6-2036 | E31: =C31-D31 -> 0
A32: 4. Вземания от предоставени търговски заеми | B32: 6-2037 | E32: =C32-D32 -> 0
A33: 5. Съдебни вземания | B33: 6-2039 | E33: =C33-D33 -> 0
A34: 6. Присъдени вземания | B34: 6-2040 | E34: =C34-D34 -> 0
A35: 7. Данъци за възстановяване, в т.ч.: | B35: 6-2041 | C35: =SUM(C36:C39) -> 0 | D35: =SUM(D36:D39) -> 0 | E35: =SUM(E36:E39) -> 0
A36: - корпоративни данъци върху печалбата | B36: 6-2043 | E36: =C36-D36 -> 0
A37: - данък върху добавената стойност | B37: 6-2044 | E37: =C37-D37 -> 0
A38: - възстановими данъчни временни разлики | B38: 6-2045 | E38: =C38-D38 -> 0
A39: - други данъци | B39: 6-2046 | E39: =C39-D39 -> 0
A40: 8. Други краткосрочни вземания, в т.ч.: | B40: 6-2047 | C40: =SUM(C41:C44) -> 0 | D40: =SUM(D41:D44) -> 0 | E40: =SUM(E41:E44) -> 0
A41: - по липси и начети | B41: 6-2048 | E41: =C41-D41 -> 0
A42: - от осигурителните организации | B42: 6-2049 | E42: =C42-D42 -> 0
A43: - по рекламации | B43: 6-2050 | E43: =C43-D43 -> 0
...

Sheet Справка 8
A1: СПРАВКА ЗА ЦЕННИТЕ КНИЖА
A3: =CONCATENATE("на ",UPPER(pdeName)) -> на "КОСТЕНЕЦ-ХХИ" АД
A4: =CONCATENATE("ЕИК по БУЛСТАТ: ", pdeBulstat) -> ЕИК по БУЛСТАТ: 832064969
A5: =CONCATENATE("към ",TEXT(endDate,"dd.mm.yyyy")," г.") -> към 31.12.2025 г.
I7: (в хил.лева)
A8: ПОКАЗАТЕЛИ | B8: Код на реда | C8: Вид и брой на ценните книжа | F8: Стойност на ценните книжа
C9: обикновени | D9: привиле- гировани | E9: конверти- руеми | F9: отчетна стойност | G9: преоценка | I9: преоценена стойност (4+5-6)
G10: увеличение | H10: намаление
A11: а | B11: б | C11: 1 | D11: 2 | E11: 3 | F11: 4 | G11: 5 | H11: 6 | I11: 7
A12: I. Нетекущи финансови активи в ценни книжа
A13: 1. Акции | B13: 7-3031 | I13: =F13+G13-H13 -> 0
A14: 2. Облигации, в т.ч.: | B14: 7-3035 | I14: =F14+G14-H14 -> 0
A15: общински облигации | B15: 7-3035-1 | I15: =F15+G15-H15 -> 0
A16: 3. Държавни ценни книжа | B16: 7-3036 | I16: =F16+G16-H16 -> 0
A17: 4. Други | B17: 7-3039 | I17: =F17+G17-H17 -> 0
A18: Обща сума I: | B18: 7-3040 | C18: =C13+C14+C16+C17 -> 0 | D18: =D13+D14+D16+D17 -> 0 | E18: =E13+E14+E16+E17 -> 0 | F18: =F13+F14+F16+F17 -> 0 | G18: =G13+G14+G16+G17 -> 0 | H18: =H13+H14+H16+H17 -> 0 | I18: =F18+G18-H18 -> 0
A19: II. Текущи финансови активи в ценни книжа
A20: 1. Акции | B20: 7-3001 | I20: =F20+G20-H20 -> 0
A21: 2. Изкупени собствени акции | B21: 7-3005 | I21: =F21+G21-H21 -> 0
A22: 3. Облигации | B22: 7-3006 | I22: =F22+G22-H22 -> 0
A23: 4. Изкупени собствени облигации | B23: 7-3007 | I23: =F23+G23-H23 -> 0
A24: 5. Държавни ценни книжа | B24: 7-3008 | I24: =F24+G24-H24 -> 0
A25: 6. Деривативи и други финансови инструменти | B25: 7-3010-1 | I25: =F25+G25-H25 -> 0
A26: 7. Други | B26: 7-3010 | I26: =F26+G26-H26 -> 0
A27: Обща сума II: | B27: 7-3020 | C27: =SUM(C20:C26) -> 0 | D27: =SUM(D20:D26) -> 0 | E27: =SUM(E20:E26) -> 0 | F27: =SUM(F20:F26) -> 0 | G27: =SUM(G20:G26) -> 0 | H27: =SUM(H20:H26) -> 0 | I27: =F27+G27-H27 -> 0
A29: Забележка: Предприятията, които притежават чуждестранни ценни книжа с характер на краткосрочни и дългосрочни инвестиции, съставят отделна справка за всяка страна.
A31: Дата на съставяне: | B31: =pdeReportingDate -> 46044
A33: Съставител: | B33: =authorName -> Тотка Николова
A35: Представляващ/и:
B36: .........................
B37: .........................
B38: .........................
B39: .........................

Sheet Контроли
A1: ФОРМАЛЕН КОНТРОЛ
A2: =CONCATENATE("на информацията, въведена в справките на ",UPPER(pdeName)) -> на информацията, въведена в справките на "КОСТЕНЕЦ-ХХИ" АД
A3: =CONCATENATE("за периода от ",TEXT(startDate,"dd.mm.yyyy г.")," до ",TEXT(endDate,"dd.mm.yyyy г.")) -> за периода от 01.01.2025 г. до 31.12.2025 г.
A5: Справка 1 | B5: Показател 1 | C5: Стойност 1 | D5: РАЗЛИКА | E5: Стойност 2 | F5: Показател 2 | G5: Справка 2
A6: [1-Баланс] | B6: Общо активи | C6: ='1-Баланс'!C95 -> 0 | D6: =C6-E6 -> 0 | E6: ='1-Баланс'!G95 -> 0 | F6: Собствен капитал и пасиви | G6: [1-Баланс]
A7: [1-Баланс] | B7: Собствен капитал | C7: ='1-Баланс'!G37 -> 0 | D7: =C7-E7 -> -1043 | E7: ='1-Баланс'!G18 -> 1043 | F7: Основен капитал | G7: [1-Баланс]
A8: [1-Баланс] | B8: Текуща печалба/загуба | C8: =ABS('1-Баланс'!G32)-ABS('1-Баланс'!G33) -> 0 | D8: =C8-E8 -> 0 | E8: =ABS('2-Отчет за доходите'!C44)-ABS('2-Отчет за доходите'!G44) -> 0 | F8: Нетна печалба/загуба за периода | G8: [2-ОД]
A9: [1-Баланс] | B9: Парични средства (предходен период) | C9: ='1-Баланс'!D92 -> 0 | D9: =C9-E9 -> 0 | E9: ='3-Отчет за паричния поток'!C45 -> 0 | F9: Парични средства в началото на периода | G9: [3-ОПП]
A10: [1-Баланс] | B10: Парични средства (текущ период) | C10: ='1-Баланс'!C92 -> 0 | D10: =C10-E10 -> 0 | E10: ='3-Отчет за паричния поток'!C46 -> 0 | F10: Парични средства в края на периода | G10: [3-ОПП]
A11: [1-Баланс] | B11: Собствен капитал | C11: ='1-Баланс'!G37 -> 0 | D11: =C11-E11 -> 65 | E11: ='4-Отчет за собствения капитал'!L34 -> -65 | F11: Собствен капитал към края на отчетния период | G11: [4-ОСК]
A12: [1-Баланс] | B12: Нетекущи инвестиции в дъщерни предприятия | C12: ='1-Баланс'!C36 -> 0 | D12: =C12-E12 -> 0 | E12: ='Справка 5'!C27+'Справка 5'!C97 -> 0 | F12: Инвестиции в дъщерни предприятия | G12: [Справка 5]
A13: [1-Баланс] | B13: Нетекущи инвестиции в смесени предприятия | C13: ='1-Баланс'!C37 -> 0 | D13: =C13-E13 -> 0 | E13: ='Справка 5'!C44+'Справка 5'!C114 -> 0 | F13: Инвестиции в смесени предприятия | G13: [Справка 5]
A14: [1-Баланс] | B14: Нетекущи инвестиции в асоциирани предприятия | C14: ='1-Баланс'!C38 -> 0 | D14: =C14-E14 -> 0 | E14: ='Справка 5'!C61+'Справка 5'!C131 -> 0 | F14: Инвестиции в асоциирани предприятия | G14: [Справка 5]
A15: [1-Баланс] | B15: Нетекущи инвестиции в други предприятия | C15: ='1-Баланс'!C39 -> 0 | D15: =C15-E15 -> 0 | E15: ='Справка 5'!C148+'Справка 5'!C78 -> 0 | F15: Инвестиции в други предприятия | G15: [Справка 5]

Sheet Показатели
A1: # | B1: Показател | C1: Коефициент | D1: Стойност
A2: Показатели за рентабилност
A3: 1 | B3: Рентабилност на приходите от продажби | C3: Финансов резултат / Нетни приходи от продажби | D3: =(ABS('1-Баланс'!G32)-ABS('1-Баланс'!G33))/'2-Отчет за доходите'!G16 -> #DIV/0!
A4: 2 | B4: Рентабилност на собствения капитал (ROE) | C4: Финансов резултат / Собствен капитал | D4: =(ABS('1-Баланс'!G32)-ABS('1-Баланс'!G33))/'1-Баланс'!G37 -> #DIV/0!
A5: 3 | B5: Рентабилност на пасивите | C5: Финансов резултат / Пасиви | D5: =(ABS('1-Баланс'!G32)-ABS('1-Баланс'!G33))/('1-Баланс'!G56+'1-Баланс'!G79) -> #DIV/0!
A6: 4 | B6: Рентабилност на активите (ROA) | C6: Финансов резултат / Активи | D6: =(ABS('1-Баланс'!G32)-ABS('1-Баланс'!G33))/('1-Баланс'!C95) -> #DIV/0!
A7: Показатели за ефективност
A8: 5 | B8: Ефективност на разходите | C8: Приходи / Разходи | D8: ='2-Отчет за доходите'!G36/'2-Отчет за доходите'!C36 -> #DIV/0!
A9: Показатели за ликвидност
A10: 6 | B10: Обща ликвидност | C10: Текущи активи / Текущи пасиви | D10: ='1-Баланс'!C94/'1-Баланс'!G79 -> #DIV/0!
A11: 7 | B11: Бърза ликвидност | C11: (Краткосрочни вземания + Краткосрочни инвестиции + Парични средства) / Текущи пасиви | D11: =('1-Баланс'!C76+'1-Баланс'!C85+'1-Баланс'!C92)/'1-Баланс'!G79 -> #DIV/0!
A12: 8 | B12: Незабавна ликвидност | C12: (Краткосрочни инвестиции + Парични средства) / Текущи пасиви | D12: =('1-Баланс'!C85+'1-Баланс'!C92)/'1-Баланс'!G79 -> #DIV/0!
A13: 9 | B13: Абсолютна ликвидност | C13: Парични средства / Текущи пасиви | D13: ='1-Баланс'!C92/'1-Баланс'!G79 -> #DIV/0!
A14: Обръщаемост на активите
A15: 10 | B15: Обръщаемост на материалните активи | C15: Нетни приходи от продажби / Материални активи | D15: ='2-Отчет за доходите'!G16/('1-Баланс'!C20+'1-Баланс'!C21+'1-Баланс'!C22+'1-Баланс'!C28+'1-Баланс'!C65) -> #DIV/0!
A16: 11 | B16: Обръщаемост на активите | C16: Нетни приходи от продажби / Общи активи | D16: ='2-Отчет за доходите'!G16/('1-Баланс'!C95) -> #DIV/0!
A17: Финансов ливъридж (Задлъжнялост)
A18: 12 | B18: Капиталова структура | C18: Дългосрочен дълг / Сума на дългосрочното финансиране | D18: ='1-Баланс'!G56/('1-Баланс'!G37+'1-Баланс'!G56) -> #DIV/0!
A19: 13 | B19: Дълг / Собствен капитал | C19: Текущи пасиви + Нетекущи пасиви / Собствен капитал | D19: =D4/D5 -> #DIV/0!
A20: 14 | B20: Дълг / Активи | C20: Текущи пасиви + Нетекущи пасиви / Активи | D20: =D6/D5 -> #DIV/0!
A21: 15 | B21: Оперативна печалба (EBIT) | C21: Печалба преди данъци + Р-ди за лихви | D21: ='2-Отчет за доходите'!C37+'2-Отчет за доходите'!C25 -> 0
A22: 16 | B22: Възвръщаемост на собствения капитал чрез оперативната печалба (ROE using EBIT) | C22: Оперативна печалба / Собствен капитал | D22: =D21/'1-Баланс'!G37 -> #DIV/0!
A23: 17 | B23: EBITDA margin | C23: Оперативна печалба + Амортизации / Приходи от дейността | D23: =(D21+'2-Отчет за доходите'!C14)/'2-Отчет за доходите'!G31 -> #DIV/0!
A24: 18 | B24: Дълг / EBITDA | C24: Текущи пасиви + Нетекущи пасиви / EBITDA | D24: =('1-Баланс'!G56+'1-Баланс'!G79)/(D21+'2-Отчет за доходите'!C14) -> #DIV/0!

Sheet Danni
A1: Наименование | B1: ЕИК | C1: Дата | D1: Код на ред | E1: Код на колона | F1: Индикатор | G1: Подиндикатор | H1: Сума | N1: На консолидирана основа
F2: Баланс
A3: =pdeName -> "Костенец-ХХИ" АД | B3: =pdeBulstat -> 832064969 | C3: =endDate -> 46022 | D3: 1-0011 | E3: 1 | F3: 1. Земи (терени ) | G3: Активи | H3: ='1-Баланс'!C12 -> 0
A4: =pdeName -> "Костенец-ХХИ" АД | B4: =pdeBulstat -> 832064969 | C4: =endDate -> 46022 | D4: 1-0012 | E4: 1 | F4: 2. Сгради и конструкции | G4: Активи | H4: ='1-Баланс'!C13 -> 0
A5: =pdeName -> "Костенец-ХХИ" АД | B5: =pdeBulstat -> 832064969 | C5: =endDate -> 46022 | D5: 1-0013 | E5: 1 | F5: 3. Машини и оборудване | G5: Активи | H5: ='1-Баланс'!C14 -> 0
A6: =pdeName -> "Костенец-ХХИ" АД | B6: =pdeBulstat -> 832064969 | C6: =endDate -> 46022 | D6: 1-0014 | E6: 1 | F6: 4. Съоръжения | G6: Активи | H6: ='1-Баланс'!C15 -> 0
A7: =pdeName -> "Костенец-ХХИ" АД | B7: =pdeBulstat -> 832064969 | C7: =endDate -> 46022 | D7: 1-0015 | E7: 1 | F7: 5. Транспортни средства | G7: Активи | H7: ='1-Баланс'!C16 -> 0
A8: =pdeName -> "Костенец-ХХИ" АД | B8: =pdeBulstat -> 832064969 | C8: =endDate -> 46022 | D8: 1-0017-1 | E8: 1 | F8: 6. Стопански инвентар | G8: Активи | H8: ='1-Баланс'!C17 -> 0
A9: =pdeName -> "Костенец-ХХИ" АД | B9: =pdeBulstat -> 832064969 | C9: =endDate -> 46022 | D9: 1-0018 | E9: 1 | F9: 7. Разходи за придобиване и ликвидация на дълготрайни материални активи | G9: Активи | H9: ='1-Баланс'!C18 -> 0
A10: =pdeName -> "Костенец-ХХИ" АД | B10: =pdeBulstat -> 832064969 | C10: =endDate -> 46022 | D10: 1-0017 | E10: 1 | F10: 8. Други | G10: Активи | H10: ='1-Баланс'!C19 -> 0
A11: =pdeName -> "Костенец-ХХИ" АД | B11: =pdeBulstat -> 832064969 | C11: =endDate -> 46022 | D11: 1-0010 | E11: 1 | F11: I. Имоти, машини, съоръжения и оборудване | G11: Активи | H11: ='1-Баланс'!C20 -> 0
A12: =pdeName -> "Костенец-ХХИ" АД | B12: =pdeBulstat -> 832064969 | C12: =endDate -> 46022 | D12: 1-0041 | E12: 1 | F12: II. Инвестиционни имоти | G12: Активи | H12: ='1-Баланс'!C21 -> 0
A13: =pdeName -> "Костенец-ХХИ" АД | B13: =pdeBulstat -> 832064969 | C13: =endDate -> 46022 | D13: 1-0016 | E13: 1 | F13: III. Биологични активи | G13: Активи | H13: ='1-Баланс'!C22 -> 0
A14: =pdeName -> "Костенец-ХХИ" АД | B14: =pdeBulstat -> 832064969 | C14: =endDate -> 46022 | D14: 1-0021 | E14: 1 | F14: 1. Права върху собственост | G14: Активи | H14: ='1-Баланс'!C24 -> 0
A15: =pdeName -> "Костенец-ХХИ" АД | B15: =pdeBulstat -> 832064969 | C15: =endDate -> 46022 | D15: 1-0022 | E15: 1 | F15: 2. Програмни продукти | G15: Активи | H15: ='1-Баланс'!C25 -> 0
A16: =pdeName -> "Костенец-ХХИ" АД | B16: =pdeBulstat -> 832064969 | C16: =endDate -> 46022 | D16: 1-0023 | E16: 1 | F16: 3. Продукти от развойна дейност | G16: Активи | H16: ='1-Баланс'!C26 -> 0
A17: =pdeName -> "Костенец-ХХИ" АД | B17: =pdeBulstat -> 832064969 | C17: =endDate -> 46022 | D17: 1-0024 | E17: 1 | F17: 4. Други | G17: Активи | H17: ='1-Баланс'!C27 -> 0
A18: =pdeName -> "Костенец-ХХИ" АД | B18: =pdeBulstat -> 832064969 | C18: =endDate -> 46022 | D18: 1-0020 | E18: 1 | F18: IV. Нематериални активи | G18: Активи | H18: ='1-Баланс'!C28 -> 0
A19: =pdeName -> "Костенец-ХХИ" АД | B19: =pdeBulstat -> 832064969 | C19: =endDate -> 46022 | D19: 1-0051 | E19: 1 | F19: 1. Положителна репутация | G19: Активи | H19: ='1-Баланс'!C31 -> 0
A20: =pdeName -> "Костенец-ХХИ" АД | B20: =pdeBulstat -> 832064969 | C20: =endDate -> 46022 | D20: 1-0052 | E20: 1 | F20: 2. Отрицателна репутация | G20: Активи | H20: ='1-Баланс'!C32 -> 0
A21: =pdeName -> "Костенец-ХХИ" АД | B21: =pdeBulstat -> 832064969 | C21: =endDate -> 46022 | D21: 1-0050 | E21: 1 | F21: V. Търговска репутация | G21: Активи | H21: ='1-Баланс'!C33 -> 0
A22: =pdeName -> "Костенец-ХХИ" АД | B22: =pdeBulstat -> 832064969 | C22: =endDate -> 46022 | D22: 1-0031 | E22: 1 | F22: 1. Инвестиции в: | G22: Активи | H22: ='1-Баланс'!C35 -> 0
A23: =pdeName -> "Костенец-ХХИ" АД | B23: =pdeBulstat -> 832064969 | C23: =endDate -> 46022 | D23: 1-0032 | E23: 1 | F23: дъщерни предприятия | G23: Активи | H23: ='1-Баланс'!C36 -> 0
A24: =pdeName -> "Костенец-ХХИ" АД | B24: =pdeBulstat -> 832064969 | C24: =endDate -> 46022 | D24: 1-0033 | E24: 1 | F24: смесени предприятия | G24: Активи | H24: ='1-Баланс'!C37 -> 0
A25: =pdeName -> "Костенец-ХХИ" АД | B25: =pdeBulstat -> 832064969 | C25: =endDate -> 46022 | D25: 1-0034 | E25: 1 | F25: асоциирани предприятия | G25: Активи | H25: ='1-Баланс'!C38 -> 0
A26: =pdeName -> "Костенец-ХХИ" АД | B26: =pdeBulstat -> 832064969 | C26: =endDate -> 46022 | D26: 1-0035 | E26: 1 | F26: други предприятия | G26: Активи | H26: ='1-Баланс'!C39 -> 0
A27: =pdeName -> "Костенец-ХХИ" АД | B27: =pdeBulstat -> 832064969 | C27: =endDate -> 46022 | D27: 1-0042 | E27: 1 | F27: 2. Държани до настъпване на падеж | G27: Активи | H27: ='1-Баланс'!C40 -> 0
A28: =pdeName -> "Костенец-ХХИ" АД | B28: =pdeBulstat -> 832064969 | C28: =endDate -> 46022 | D28: 1-0042-1 | E28: 1 | F28: държавни ценни книжа | G28: Активи | H28: ='1-Баланс'!C41 -> 0
A29: =pdeName -> "Костенец-ХХИ" АД | B29: =pdeBulstat -> 832064969 | C29: =endDate -> 46022 | D29: 1-0042-2 | E29: 1 | F29: облигации, в т.ч.: | G29: Активи | H29: ='1-Баланс'!C42 -> 0
A30: =pdeName -> "Костенец-ХХИ" АД | B30: =pdeBulstat -> 832064969 | C30: =endDate -> 46022 | D30: 1-0042-3 | E30: 1 | F30: общински облигации | G30: Активи | H30: ='1-Баланс'!C43 -> 0
A31: =pdeName -> "Костенец-ХХИ" АД | B31: =pdeBulstat -> 832064969 | C31: =endDate -> 46022 | D31: 1-0042-4 | E31: 1 | F31: други инвестиции, държани до настъпване на падеж | G31: Активи | H31: ='1-Баланс'!C44 -> 0
A32: =pdeName -> "Костенец-ХХИ" АД | B32: =pdeBulstat -> 832064969 | C32: =endDate -> 46022 | D32: 1-0042-5 | E32: 1 | F32: 3. Други | G32: Активи | H32: ='1-Баланс'!C45 -> 0
A33: =pdeName -> "Костенец-ХХИ" АД | B33: =pdeBulstat -> 832064969 | C33: =endDate -> 46022 | D33: 1-0040 | E33: 1 | F33: Общо за група VI: | G33: Активи | H33: ='1-Баланс'!C46 -> 0
A34: =pdeName -> "Костенец-ХХИ" АД | B34: =pdeBulstat -> 832064969 | C34: =endDate -> 46022 | D34: 1-0044 | E34: 1 | F34: 1. Вземания от свързани предприятия | G34: Активи | H34: ='1-Баланс'!C48 -> 0
A35: =pdeName -> "Костенец-ХХИ" АД | B35: =pdeBulstat -> 832064969 | C35: =endDate -> 46022 | D35: 1-0045 | E35: 1 | F35: 2. Вземания по търговски заеми | G35: Активи | H35: ='1-Баланс'!C49 -> 0
A36: =pdeName -> "Костенец-ХХИ" АД | B36: =pdeBulstat -> 832064969 | C36: =endDate -> 46022 | D36: 1-0046-1 | E36: 1 | F36: 3. Вземания по финансов лизинг | G36: Активи | H36: ='1-Баланс'!C50 -> 0
A37: =pdeName -> "Костенец-ХХИ" АД | B37: =pdeBulstat -> 832064969 | C37: =endDate -> 46022 | D37: 1-0046 | E37: 1 | F37: 4. Други | G37: Активи | H37: ='1-Баланс'!C51 -> 0
A38: =pdeName -> "Костенец-ХХИ" АД | B38: =pdeBulstat -> 832064969 | C38: =endDate -> 46022 | D38: 1-0040-1 | E38: 1 | F38: VI. Финансови активи | G38: Активи | H38: ='1-Баланс'!C52 -> 0
A39: =pdeName -> "Костенец-ХХИ" АД | B39: =pdeBulstat -> 832064969 | C39: =endDate -> 46022 | D39: 1-0060 | E39: 1 | F39: VIII. Разходи за бъдещи периоди | G39: Активи | H39: ='1-Баланс'!C54 -> 0
A40: =pdeName -> "Костенец-ХХИ" АД | B40: =pdeBulstat -> 832064969 | C40: =endDate -> 46022 | D40: 1-0060-1 | E40: 1 | F40: IX. Активи по отсрочени данъци | G40: Активи | H40: ='1-Баланс'!C55 -> 0
...

Sheet Nomenklaturi
A1: на консолидирана основа
A2: на индивидуална основа
A5: Публично дружество
A6: Емитент на облигации
A7: Публично дружество/Емитент на облигации
A8: АДСИЦ
A9: Лице по §1д от ЗППЦК
A11: Акции
A12: Облигации
A13: Други
